BEGIN:VCALENDAR
VERSION:2.0
PRODID:-//candle.fmph.uniba.sk//NONSGML kigkonsult.se iCalcreator 2.16.12//
METHOD:PUBLISH
X-WR-CALNAME:1pZIK
X-WR-CALDESC:Rozvrh hodín vyexportovaný pomocou Candle\, https://github.com
 /fmfi-svt/candle
X-WR-TIMEZONE:Europe/Bratislava
BEGIN:VEVENT
UID:lesson(120)-semester(022026-052026)-candle@candle.fmph.uniba.sk
DTSTAMP:20260425T121023Z
CATEGORIES:Prednáška
DESCRIPTION:Prednáška\n\nVyučujúci:\n - K. Rostás\n
DTSTART;TZID=Europe/Bratislava:20260216T113000
DTEND;TZID=Europe/Bratislava:20260216T130000
LOCATION:B1-307
RRULE:FREQ=WEEKLY;UNTIL=20260523T000000Z
SUMMARY:Matematika 2
END:VEVENT
BEGIN:VEVENT
UID:lesson(121)-semester(022026-052026)-candle@candle.fmph.uniba.sk
DTSTAMP:20260425T121023Z
CATEGORIES:Cvičenie
DESCRIPTION:Cvičenie\n\nVyučujúci:\n - L. Caban\n
DTSTART;TZID=Europe/Bratislava:20260216T131000
DTEND;TZID=Europe/Bratislava:20260216T144000
LOCATION:B2-304
RRULE:FREQ=WEEKLY;UNTIL=20260523T000000Z
SUMMARY:Matematika 2
END:VEVENT
END:VCALENDAR
