BEGIN:VCALENDAR
VERSION:2.0
PRODID:-//candle.fmph.uniba.sk//NONSGML kigkonsult.se iCalcreator 2.16.12//
METHOD:PUBLISH
X-WR-CALNAME:1pMB
X-WR-CALDESC:Rozvrh hodín vyexportovaný pomocou Candle\, https://github.com
 /fmfi-svt/candle
X-WR-TIMEZONE:Europe/Bratislava
BEGIN:VEVENT
UID:lesson(111)-semester(022026-052026)-candle@candle.fmph.uniba.sk
DTSTAMP:20260424T212243Z
CATEGORIES:Prednáška
DESCRIPTION:Prednáška\n\nVyučujúci:\n - K. Rostás\n
DTSTART;TZID=Europe/Bratislava:20260217T131000
DTEND;TZID=Europe/Bratislava:20260217T152500
LOCATION:Ch1-1
RRULE:FREQ=WEEKLY;UNTIL=20260523T000000Z
SUMMARY:Matematika
END:VEVENT
END:VCALENDAR
