BEGIN:VCALENDAR
VERSION:2.0
PRODID:-//candle.fmph.uniba.sk//NONSGML kigkonsult.se iCalcreator 2.16.12//
METHOD:PUBLISH
X-WR-CALNAME:1pBX
X-WR-CALDESC:Rozvrh hodín vyexportovaný pomocou Candle\, https://github.com
 /fmfi-svt/candle
X-WR-TIMEZONE:Europe/Bratislava
BEGIN:VEVENT
UID:lesson(124)-semester(022026-052026)-candle@candle.fmph.uniba.sk
DTSTAMP:20260425T121116Z
CATEGORIES:Prednáška
DESCRIPTION:Prednáška\n\nVyučujúci:\n - Š. Matejčík\n - L. Moravský\n - V. 
 Medvecká\n - M. Klas\n - P. Čermák\n - P. Papp\n
DTSTART;TZID=Europe/Bratislava:20260216T095000
DTEND;TZID=Europe/Bratislava:20260216T112000
LOCATION:B1-320
RRULE:FREQ=WEEKLY;UNTIL=20260523T000000Z
SUMMARY:Fyzika pre chémiu
END:VEVENT
BEGIN:VEVENT
UID:lesson(125)-semester(022026-052026)-candle@candle.fmph.uniba.sk
DTSTAMP:20260425T121116Z
CATEGORIES:Prednáška
DESCRIPTION:Prednáška\n\nVyučujúci:\n - Š. Matejčík\n - L. Moravský\n - V. 
 Medvecká\n - M. Klas\n - P. Čermák\n - P. Papp\n
DTSTART;TZID=Europe/Bratislava:20260217T131000
DTEND;TZID=Europe/Bratislava:20260217T144000
LOCATION:B1-320
RRULE:FREQ=WEEKLY;UNTIL=20260523T000000Z
SUMMARY:Fyzika pre chémiu
END:VEVENT
BEGIN:VEVENT
UID:lesson(126)-semester(022026-052026)-candle@candle.fmph.uniba.sk
DTSTAMP:20260425T121116Z
CATEGORIES:Cvičenie
DESCRIPTION:Cvičenie\n\nVyučujúci:\n - L. Moravský\n
DTSTART;TZID=Europe/Bratislava:20260219T131000
DTEND;TZID=Europe/Bratislava:20260219T152500
LOCATION:Ch1-3
RRULE:FREQ=WEEKLY;UNTIL=20260523T000000Z
SUMMARY:Fyzika pre chémiu
END:VEVENT
BEGIN:VEVENT
UID:lesson(127)-semester(022026-052026)-candle@candle.fmph.uniba.sk
DTSTAMP:20260425T121116Z
CATEGORIES:Cvičenie
DESCRIPTION:Cvičenie\n\nVyučujúci:\n - L. Moravský\n - S. Ďurčányová\n
DTSTART;TZID=Europe/Bratislava:20260219T131000
DTEND;TZID=Europe/Bratislava:20260219T152500
LOCATION:Ch2-201
RRULE:FREQ=WEEKLY;UNTIL=20260523T000000Z
SUMMARY:Fyzika pre chémiu
END:VEVENT
END:VCALENDAR
