BEGIN:VCALENDAR
VERSION:2.0
PRODID:-//candle.fmph.uniba.sk//NONSGML kigkonsult.se iCalcreator 2.16.12//
METHOD:PUBLISH
X-WR-CALNAME:1mFTF
X-WR-CALDESC:Rozvrh hodín vyexportovaný pomocou Candle\, https://github.com
 /fmfi-svt/candle
X-WR-TIMEZONE:Europe/Bratislava
BEGIN:VEVENT
UID:lesson(967)-semester(022026-052026)-candle@candle.fmph.uniba.sk
DTSTAMP:20260424T231756Z
CATEGORIES:Prednáška
DESCRIPTION:Prednáška\n\nVyučujúci:\n - M. Mojžiš\n
DTSTART;TZID=Europe/Bratislava:20260216T104000
DTEND;TZID=Europe/Bratislava:20260216T125500
LOCATION:F2-125
RRULE:FREQ=WEEKLY;UNTIL=20260523T000000Z
SUMMARY:Renormalizácia
END:VEVENT
BEGIN:VEVENT
UID:lesson(780)-semester(022026-052026)-candle@candle.fmph.uniba.sk
DTSTAMP:20260424T231756Z
CATEGORIES:Prednáška
DESCRIPTION:Prednáška\n\nVyučujúci:\n - M. Krššák\n
DTSTART;TZID=Europe/Bratislava:20260216T163000
DTEND;TZID=Europe/Bratislava:20260216T180000
LOCATION:F2-130
RRULE:FREQ=WEEKLY;UNTIL=20260523T000000Z
SUMMARY:Reprezentácie grúp
END:VEVENT
BEGIN:VEVENT
UID:lesson(781)-semester(022026-052026)-candle@candle.fmph.uniba.sk
DTSTAMP:20260424T231756Z
CATEGORIES:Cvičenie
DESCRIPTION:Cvičenie\n\nVyučujúci:\n - M. Krššák\n
DTSTART;TZID=Europe/Bratislava:20260216T181000
DTEND;TZID=Europe/Bratislava:20260216T185500
LOCATION:F2-130
RRULE:FREQ=WEEKLY;UNTIL=20260523T000000Z
SUMMARY:Reprezentácie grúp
END:VEVENT
BEGIN:VEVENT
UID:lesson(917)-semester(022026-052026)-candle@candle.fmph.uniba.sk
DTSTAMP:20260424T231756Z
CATEGORIES:Prednáška
DESCRIPTION:Prednáška\n\nVyučujúci:\n - R. Hlubina\n
DTSTART;TZID=Europe/Bratislava:20260217T095000
DTEND;TZID=Europe/Bratislava:20260217T112000
LOCATION:F2-223
RRULE:FREQ=WEEKLY;UNTIL=20260523T000000Z
SUMMARY:Elektrické a optické vlastnosti tuhých látok
END:VEVENT
BEGIN:VEVENT
UID:lesson(945)-semester(022026-052026)-candle@candle.fmph.uniba.sk
DTSTAMP:20260424T231756Z
CATEGORIES:Prednáška
DESCRIPTION:Prednáška\n\nVyučujúci:\n - T. Blažek\n
DTSTART;TZID=Europe/Bratislava:20260217T095000
DTEND;TZID=Europe/Bratislava:20260217T112000
LOCATION:F2-130
RRULE:FREQ=WEEKLY;UNTIL=20260523T000000Z
SUMMARY:Kvantová elektrodynamika
END:VEVENT
BEGIN:VEVENT
UID:lesson(782)-semester(022026-052026)-candle@candle.fmph.uniba.sk
DTSTAMP:20260424T231756Z
CATEGORIES:Prednáška
DESCRIPTION:Prednáška\n\nVyučujúci:\n - M. Krššák\n
DTSTART;TZID=Europe/Bratislava:20260217T113000
DTEND;TZID=Europe/Bratislava:20260217T130000
LOCATION:F2-130
RRULE:FREQ=WEEKLY;UNTIL=20260523T000000Z
SUMMARY:Reprezentácie grúp
END:VEVENT
BEGIN:VEVENT
UID:lesson(689)-semester(022026-052026)-candle@candle.fmph.uniba.sk
DTSTAMP:20260424T231756Z
CATEGORIES:Prednáška
DESCRIPTION:Prednáška\n\nVyučujúci:\n - S. Kováčik\n
DTSTART;TZID=Europe/Bratislava:20260217T122000
DTEND;TZID=Europe/Bratislava:20260217T135000
LOCATION:F2-oTF
RRULE:FREQ=WEEKLY;UNTIL=20260523T000000Z
SUMMARY:Vybrané kapitoly zo štatistickej fyziky
END:VEVENT
BEGIN:VEVENT
UID:lesson(690)-semester(022026-052026)-candle@candle.fmph.uniba.sk
DTSTAMP:20260424T231756Z
CATEGORIES:Cvičenie
DESCRIPTION:Cvičenie\n\nVyučujúci:\n - M. Hrmo\n
DTSTART;TZID=Europe/Bratislava:20260217T154000
DTEND;TZID=Europe/Bratislava:20260217T171000
LOCATION:F2-130
RRULE:FREQ=WEEKLY;UNTIL=20260523T000000Z
SUMMARY:Vybrané kapitoly zo štatistickej fyziky
END:VEVENT
BEGIN:VEVENT
UID:lesson(916)-semester(022026-052026)-candle@candle.fmph.uniba.sk
DTSTAMP:20260424T231756Z
CATEGORIES:Cvičenie
DESCRIPTION:Cvičenie\n\nVyučujúci:\n - L. Gelenekyová\n
DTSTART;TZID=Europe/Bratislava:20260218T081000
DTEND;TZID=Europe/Bratislava:20260218T094000
LOCATION:F2-272
RRULE:FREQ=WEEKLY;UNTIL=20260523T000000Z
SUMMARY:Elektrické a optické vlastnosti tuhých látok
END:VEVENT
BEGIN:VEVENT
UID:lesson(691)-semester(022026-052026)-candle@candle.fmph.uniba.sk
DTSTAMP:20260424T231756Z
CATEGORIES:Prednáška
DESCRIPTION:Prednáška\n\nVyučujúci:\n - S. Kováčik\n
DTSTART;TZID=Europe/Bratislava:20260218T113000
DTEND;TZID=Europe/Bratislava:20260218T130000
LOCATION:F2-130
RRULE:FREQ=WEEKLY;UNTIL=20260523T000000Z
SUMMARY:Vybrané kapitoly zo štatistickej fyziky
END:VEVENT
BEGIN:VEVENT
UID:lesson(962)-semester(022026-052026)-candle@candle.fmph.uniba.sk
DTSTAMP:20260424T231756Z
CATEGORIES:Prednáška
DESCRIPTION:Prednáška\n\nVyučujúci:\n - M. Fecko\n
DTSTART;TZID=Europe/Bratislava:20260218T140000
DTEND;TZID=Europe/Bratislava:20260218T153000
LOCATION:F2-125
RRULE:FREQ=WEEKLY;UNTIL=20260523T000000Z
SUMMARY:Geometrické metódy klasickej mechaniky
END:VEVENT
BEGIN:VEVENT
UID:lesson(963)-semester(022026-052026)-candle@candle.fmph.uniba.sk
DTSTAMP:20260424T231756Z
CATEGORIES:Prednáška
DESCRIPTION:Prednáška\n\nVyučujúci:\n - M. Fecko\n
DTSTART;TZID=Europe/Bratislava:20260219T095000
DTEND;TZID=Europe/Bratislava:20260219T112000
LOCATION:F2-130
RRULE:FREQ=WEEKLY;UNTIL=20260523T000000Z
SUMMARY:Konexie a kalibračné polia
END:VEVENT
BEGIN:VEVENT
UID:lesson(918)-semester(022026-052026)-candle@candle.fmph.uniba.sk
DTSTAMP:20260424T231756Z
CATEGORIES:Prednáška
DESCRIPTION:Prednáška\n\nVyučujúci:\n - R. Hlubina\n
DTSTART;TZID=Europe/Bratislava:20260219T104000
DTEND;TZID=Europe/Bratislava:20260219T121000
LOCATION:F2-272
RRULE:FREQ=WEEKLY;UNTIL=20260523T000000Z
SUMMARY:Elektrické a optické vlastnosti tuhých látok
END:VEVENT
BEGIN:VEVENT
UID:lesson(946)-semester(022026-052026)-candle@candle.fmph.uniba.sk
DTSTAMP:20260424T231756Z
CATEGORIES:Prednáška
DESCRIPTION:Prednáška\n\nVyučujúci:\n - T. Blažek\n
DTSTART;TZID=Europe/Bratislava:20260219T113000
DTEND;TZID=Europe/Bratislava:20260219T130000
LOCATION:F2-130
RRULE:FREQ=WEEKLY;UNTIL=20260523T000000Z
SUMMARY:Kvantová elektrodynamika
END:VEVENT
BEGIN:VEVENT
UID:lesson(6)-semester(022026-052026)-candle@candle.fmph.uniba.sk
DTSTAMP:20260424T231756Z
CATEGORIES:Cvičenie
DESCRIPTION:Cvičenie\n\nVyučujúci:\n - \n
DTSTART;TZID=Europe/Bratislava:20260220T081000
DTEND;TZID=Europe/Bratislava:20260220T124000
LOCATION:KTVS
RRULE:FREQ=WEEKLY;UNTIL=20260523T000000Z
SUMMARY:Telesná výchova a šport (2)
END:VEVENT
BEGIN:VEVENT
UID:lesson(947)-semester(022026-052026)-candle@candle.fmph.uniba.sk
DTSTAMP:20260424T231756Z
CATEGORIES:Cvičenie
DESCRIPTION:Cvičenie\n\nVyučujúci:\n - T. Blažek\n - V. Zaujec\n
DTSTART;TZID=Europe/Bratislava:20260220T104000
DTEND;TZID=Europe/Bratislava:20260220T121000
LOCATION:F2-130
RRULE:FREQ=WEEKLY;UNTIL=20260523T000000Z
SUMMARY:Kvantová elektrodynamika
END:VEVENT
BEGIN:VEVENT
UID:lesson(969)-semester(022026-052026)-candle@candle.fmph.uniba.sk
DTSTAMP:20260424T231756Z
CATEGORIES:Prednáška
DESCRIPTION:Prednáška\n\nVyučujúci:\n - M. Krššák\n - P. Mészáros\n
DTSTART;TZID=Europe/Bratislava:20260220T131000
DTEND;TZID=Europe/Bratislava:20260220T152500
LOCATION:F2-130
RRULE:FREQ=WEEKLY;UNTIL=20260523T000000Z
SUMMARY:Vybrané kapitoly zo všeobecnej teórie relativity
END:VEVENT
END:VCALENDAR
