BEGIN:VCALENDAR
VERSION:2.0
PRODID:-//candle.fmph.uniba.sk//NONSGML kigkonsult.se iCalcreator 2.16.12//
METHOD:PUBLISH
X-WR-CALNAME:1mAINu
X-WR-CALDESC:Rozvrh hodín vyexportovaný pomocou Candle\, https://github.com
 /fmfi-svt/candle
X-WR-TIMEZONE:Europe/Bratislava
BEGIN:VEVENT
UID:lesson(888)-semester(022026-052026)-candle@candle.fmph.uniba.sk
DTSTAMP:20260425T030305Z
CATEGORIES:Prednáška
DESCRIPTION:Prednáška\n\nVyučujúci:\n - M. Homola\n - Š. Pócoš\n
DTSTART;TZID=Europe/Bratislava:20260216T081000
DTEND;TZID=Europe/Bratislava:20260216T094000
LOCATION:M-XI
RRULE:FREQ=WEEKLY;UNTIL=20260523T000000Z
SUMMARY:Dôveryhodná a vysvetliteľná umelá inteligencia
END:VEVENT
BEGIN:VEVENT
UID:lesson(931)-semester(022026-052026)-candle@candle.fmph.uniba.sk
DTSTAMP:20260425T030305Z
CATEGORIES:Prednáška
DESCRIPTION:Prednáška\n\nVyučujúci:\n - J. Pukancová\n
DTSTART;TZID=Europe/Bratislava:20260216T095000
DTEND;TZID=Europe/Bratislava:20260216T112000
LOCATION:M-XI
RRULE:FREQ=WEEKLY;UNTIL=20260523T000000Z
SUMMARY:Reprezentácia znalostí a inferencia
END:VEVENT
BEGIN:VEVENT
UID:lesson(278)-semester(022026-052026)-candle@candle.fmph.uniba.sk
DTSTAMP:20260425T030305Z
CATEGORIES:Prednáška
DESCRIPTION:Prednáška\n\nVyučujúci:\n - M. Markošová\n
DTSTART;TZID=Europe/Bratislava:20260216T122000
DTEND;TZID=Europe/Bratislava:20260216T135000
LOCATION:F1-109
RRULE:FREQ=WEEKLY;UNTIL=20260523T000000Z
SUMMARY:Štatistické metódy v umelej inteligencii
END:VEVENT
BEGIN:VEVENT
UID:lesson(508)-semester(022026-052026)-candle@candle.fmph.uniba.sk
DTSTAMP:20260425T030305Z
CATEGORIES:Prednáška
DESCRIPTION:Prednáška\n\nVyučujúci:\n - T. Jajcayová\n
DTSTART;TZID=Europe/Bratislava:20260217T095000
DTEND;TZID=Europe/Bratislava:20260217T112000
LOCATION:M-VI
RRULE:FREQ=WEEKLY;UNTIL=20260523T000000Z
SUMMARY:Diskrétne štruktúry v informatike a počítačovej grafike
END:VEVENT
BEGIN:VEVENT
UID:lesson(670)-semester(022026-052026)-candle@candle.fmph.uniba.sk
DTSTAMP:20260425T030305Z
CATEGORIES:Cvičenie
DESCRIPTION:Cvičenie\n\nVyučujúci:\n - P. Náther\n - B. Zigo\n
DTSTART;TZID=Europe/Bratislava:20260217T113000
DTEND;TZID=Europe/Bratislava:20260217T130000
LOCATION:I-H6
RRULE:FREQ=WEEKLY;UNTIL=20260523T000000Z
SUMMARY:Štatistické metódy v umelej inteligencii
END:VEVENT
BEGIN:VEVENT
UID:lesson(507)-semester(022026-052026)-candle@candle.fmph.uniba.sk
DTSTAMP:20260425T030305Z
CATEGORIES:Prednáška
DESCRIPTION:Prednáška\n\nVyučujúci:\n - T. Vinař\n - J. Pastorek\n
DTSTART;TZID=Europe/Bratislava:20260217T145000
DTEND;TZID=Europe/Bratislava:20260217T162000
LOCATION:F1-247
RRULE:FREQ=WEEKLY;UNTIL=20260523T000000Z
SUMMARY:Algoritmické riešenie ťažkých problémov
END:VEVENT
BEGIN:VEVENT
UID:lesson(289)-semester(022026-052026)-candle@candle.fmph.uniba.sk
DTSTAMP:20260425T030305Z
CATEGORIES:Prednáška
DESCRIPTION:Prednáška\n\nVyučujúci:\n - I. Farkaš\n
DTSTART;TZID=Europe/Bratislava:20260217T163000
DTEND;TZID=Europe/Bratislava:20260217T180000
LOCATION:F1-247
RRULE:FREQ=WEEKLY;UNTIL=20260523T000000Z
SUMMARY:Neurónové siete
END:VEVENT
BEGIN:VEVENT
UID:lesson(932)-semester(022026-052026)-candle@candle.fmph.uniba.sk
DTSTAMP:20260425T030305Z
CATEGORIES:Cvičenie
DESCRIPTION:Cvičenie\n\nVyučujúci:\n - J. Pukancová\n - M. Homola\n
DTSTART;TZID=Europe/Bratislava:20260218T090000
DTEND;TZID=Europe/Bratislava:20260218T103000
LOCATION:F1-247
RRULE:FREQ=WEEKLY;UNTIL=20260523T000000Z
SUMMARY:Reprezentácia znalostí a inferencia
END:VEVENT
BEGIN:VEVENT
UID:lesson(879)-semester(022026-052026)-candle@candle.fmph.uniba.sk
DTSTAMP:20260425T030305Z
CATEGORIES:Cvičenie
DESCRIPTION:Cvičenie\n\nVyučujúci:\n - T. Jajcayová\n - P. Kollár\n
DTSTART;TZID=Europe/Bratislava:20260218T113000
DTEND;TZID=Europe/Bratislava:20260218T130000
LOCATION:M-XII
RRULE:FREQ=WEEKLY;UNTIL=20260523T000000Z
SUMMARY:Diskrétne štruktúry v informatike a počítačovej grafike
END:VEVENT
BEGIN:VEVENT
UID:lesson(645)-semester(022026-052026)-candle@candle.fmph.uniba.sk
DTSTAMP:20260425T030305Z
CATEGORIES:Cvičenie
DESCRIPTION:Cvičenie\n\nVyučujúci:\n - M. Homola\n - Š. Pócoš\n
DTSTART;TZID=Europe/Bratislava:20260218T145000
DTEND;TZID=Europe/Bratislava:20260218T162000
LOCATION:I-H3
RRULE:FREQ=WEEKLY;UNTIL=20260523T000000Z
SUMMARY:Dôveryhodná a vysvetliteľná umelá inteligencia
END:VEVENT
BEGIN:VEVENT
UID:lesson(641)-semester(022026-052026)-candle@candle.fmph.uniba.sk
DTSTAMP:20260425T030305Z
CATEGORIES:Cvičenie
DESCRIPTION:Cvičenie\n\nVyučujúci:\n - I. Bečková\n - C. Pizarroso Troncoso
 \n
DTSTART;TZID=Europe/Bratislava:20260218T163000
DTEND;TZID=Europe/Bratislava:20260218T180000
LOCATION:I-H6
RRULE:FREQ=WEEKLY;UNTIL=20260523T000000Z
SUMMARY:Neurónové siete
END:VEVENT
BEGIN:VEVENT
UID:lesson(878)-semester(022026-052026)-candle@candle.fmph.uniba.sk
DTSTAMP:20260425T030305Z
CATEGORIES:Cvičenie
DESCRIPTION:Cvičenie\n\nVyučujúci:\n - T. Vinař\n - J. Pastorek\n
DTSTART;TZID=Europe/Bratislava:20260219T081000
DTEND;TZID=Europe/Bratislava:20260219T094000
LOCATION:M-XII
RRULE:FREQ=WEEKLY;UNTIL=20260523T000000Z
SUMMARY:Algoritmické riešenie ťažkých problémov
END:VEVENT
BEGIN:VEVENT
UID:lesson(874)-semester(022026-052026)-candle@candle.fmph.uniba.sk
DTSTAMP:20260425T030305Z
CATEGORIES:Kurz
DESCRIPTION:Kurz\n\nVyučujúci:\n - P. Lacko\n
DTSTART;TZID=Europe/Bratislava:20260219T095000
DTEND;TZID=Europe/Bratislava:20260219T125000
LOCATION:M-XII
RRULE:FREQ=WEEKLY;UNTIL=20260523T000000Z
SUMMARY:Učenie posilňovaním
END:VEVENT
BEGIN:VEVENT
UID:lesson(288)-semester(022026-052026)-candle@candle.fmph.uniba.sk
DTSTAMP:20260425T030305Z
CATEGORIES:Prednáška
DESCRIPTION:Prednáška\n\nVyučujúci:\n - D. Gruska\n
DTSTART;TZID=Europe/Bratislava:20260219T145000
DTEND;TZID=Europe/Bratislava:20260219T175000
LOCATION:C
RRULE:FREQ=WEEKLY;UNTIL=20260523T000000Z
SUMMARY:Programovanie paralelných a distribuovaných systémov
END:VEVENT
BEGIN:VEVENT
UID:lesson(291)-semester(022026-052026)-candle@candle.fmph.uniba.sk
DTSTAMP:20260425T030305Z
CATEGORIES:Seminár
DESCRIPTION:Seminár\n\nVyučujúci:\n - R. Ďurikovič\n - F. Dráček\n - M. Ono
 ja\n
DTSTART;TZID=Europe/Bratislava:20260220T081000
DTEND;TZID=Europe/Bratislava:20260220T094000
LOCATION:B
RRULE:FREQ=WEEKLY;UNTIL=20260523T000000Z
SUMMARY:Projektový seminár (1)
END:VEVENT
BEGIN:VEVENT
UID:lesson(6)-semester(022026-052026)-candle@candle.fmph.uniba.sk
DTSTAMP:20260425T030305Z
CATEGORIES:Cvičenie
DESCRIPTION:Cvičenie\n\nVyučujúci:\n - \n
DTSTART;TZID=Europe/Bratislava:20260220T081000
DTEND;TZID=Europe/Bratislava:20260220T124000
LOCATION:KTVS
RRULE:FREQ=WEEKLY;UNTIL=20260523T000000Z
SUMMARY:Telesná výchova a šport (2)
END:VEVENT
END:VCALENDAR
